BEGIN:VCALENDAR
VERSION:2.0
PRODID:-//wp-events-plugin.com//7.2.3.1//EN
TZID:Europe/Zurich
X-WR-TIMEZONE:Europe/Zurich
BEGIN:VEVENT
UID:12@centrecatalabasilea.ch
DTSTART;TZID=Europe/Zurich:20251129T180000
DTEND;TZID=Europe/Zurich:20251129T220000
DTSTAMP:20251122T173203Z
URL:https://www.centrecatalabasilea.ch/events/festival-cinema-transhumant/
SUMMARY:Festival Cinema Transhumant
DESCRIPTION:\n\n\n\n\nTROBADA CULTURAL\n\n\n\nTranshumant Festival us convi
 da a una nova sessió dedicada al cinema i a la cultura catalana.\n\n\n\nD
 ata i hora: 29 de novembre de 2025\, a les 18.00 hLloc: Neues Kino\, Klybe
 ckstrasse 247\, Basilea\n\n\n\n\n\nPrograma\n\n\n\nL’últim arròs (22
 ’)Idioma original: CatalàDirecció: Ramon Villegas Guix\, Marc Parramon
  BoriGènere: DocumentariAny de producció: 2025Secció: Curtmetratge\n\n\
 n\nDesprés de cinquanta-tres anys al capdavant d’un restaurant de munta
 nya al Collsacabra (Osona)\, la Montserrat\, la Maria i la Pilar s’acomi
 aden\, diu que les fan fora “perquè ja som viejas...”.Un document etn
 ogràfic i cultural que retrata una manera de fer i de ser que ja forma pa
 rt de la memòria col·lectiva. L’últim servei al restaurant de Cabrera
  abans del relleu generacional. L’últim arròs.\n\n\n\nMontserrat\, Int
 egral 107 (85’)Any: 2024Durada: 85 minDirecció i guió: Biel MaciàMús
 ica: Arnau FerrerFotografia: Joel Badia\, David EscobarProducció: Shoji F
 ilmsGènere: Documentari | Alpinisme / Escalada\n\n\n\nDos amics escalador
 s exploren el massís de Montserrat amb l’objectiu de traçar una línia
  que uneixi totes les seves agulles. Escalades\, ràpels\, nits al ras i u
 n estudi minuciós del terreny són imprescindibles per afrontar aquest re
 pte mai assolit fins ara. Després de més d’un any de preparació\, s
 ’endinsen en l’aventura: podran escalar les 107 agulles?Col·loqui obe
 rt amb el director.\n\n\n\n\nhttps://youtu.be/BgeiTuthjvo\n\n\n\n\nPreu: T
 aquilla inversaAl final de la sessió\, s’oferirà un tast de productes 
 catalans i el tradicional rom cremat.\n
ATTACH;FMTTYPE=image/jpeg:https://www.centrecatalabasilea.ch/wp-content/up
 loads/2023/06/transhumant_festival.jpg
END:VEVENT
BEGIN:VTIMEZONE
TZID:Europe/Zurich
X-LIC-LOCATION:Europe/Zurich
BEGIN:STANDARD
DTSTART:20251026T020000
TZOFFSETFROM:+0200
TZOFFSETTO:+0100
TZNAME:CET
END:STANDARD
END:VTIMEZONE
END:VCALENDAR